BEGIN:VCALENDAR
VERSION:2.0
PRODID:-//MotorAge New Generation - ECPv6.15.20//NONSGML v1.0//EN
CALSCALE:GREGORIAN
METHOD:PUBLISH
X-ORIGINAL-URL:https://www.motorage.it
X-WR-CALDESC:Eventi per MotorAge New Generation
REFRESH-INTERVAL;VALUE=DURATION:PT1H
X-Robots-Tag:noindex
X-PUBLISHED-TTL:PT1H
BEGIN:VTIMEZONE
TZID:Europe/Rome
BEGIN:DAYLIGHT
TZOFFSETFROM:+0100
TZOFFSETTO:+0200
TZNAME:CEST
DTSTART:20170326T010000
END:DAYLIGHT
BEGIN:STANDARD
TZOFFSETFROM:+0200
TZOFFSETTO:+0100
TZNAME:CET
DTSTART:20171029T010000
END:STANDARD
BEGIN:DAYLIGHT
TZOFFSETFROM:+0100
TZOFFSETTO:+0200
TZNAME:CEST
DTSTART:20180325T010000
END:DAYLIGHT
BEGIN:STANDARD
TZOFFSETFROM:+0200
TZOFFSETTO:+0100
TZNAME:CET
DTSTART:20181028T010000
END:STANDARD
BEGIN:DAYLIGHT
TZOFFSETFROM:+0100
TZOFFSETTO:+0200
TZNAME:CEST
DTSTART:20190331T010000
END:DAYLIGHT
BEGIN:STANDARD
TZOFFSETFROM:+0200
TZOFFSETTO:+0100
TZNAME:CET
DTSTART:20191027T010000
END:STANDARD
END:VTIMEZONE
BEGIN:VEVENT
DTSTART;TZID=Europe/Rome:20180606T100000
DTEND;TZID=Europe/Rome:20180610T233000
DTSTAMP:20260420T163600
CREATED:20180510T092659Z
LAST-MODIFIED:20180510T115336Z
UID:69187-1528279200-1528673400@www.motorage.it
SUMMARY:Parco Valentino Salone auto Torino 2018: più di 1.000 supercar
DESCRIPTION:La rassegna in programma al Parco Valentino si terrà dal 6 al 10 giugno. Protagonisti saranno auto di marchi prestigiosi assieme a ospiti noti e maestri del design automobilistico. \n  \nQuarta edizione di una formula vincente\nIl Salone di Torino è rinato quattro anni fa\, ma in una veste completamente nuova rispetto a quella del passato. Infatti\, la kermesse si svolge all’aperto\, al Parco Valentino\, ed è arricchita da una serie di eventi collaterali molto importanti che coinvolgono tutta la città. Qualcosa di molto diverso\, insomma\, rispetto al Salone che si teneva al Lingotto fino al giugno 2000. Insomma\, una formula molto più moderna\, avvincente e che coinvolge un pubblico eterogeneo.\nIl target del Parco Valentino si amplia ogni anno\, accogliendo giovani e famiglie che l’esposizione all’aperto\, l’ingresso senza alcun costo\, l’orario prolungato fino a mezzanotte. \nPrevisti 700.000 visitatori\nNella città della Mole Antonelliana sono previsti 30 raduni ed eventi dinamici da parte di club e case automobilistiche\, 700.000 visitatori\, più di 600 giornalisti e fotografi accreditati provenienti da tutto il mondo e oltre mille supercar. Infatti le auto da sogno rappresentano una delle carte vincenti del Salone e stimolano particolare interesse nel pubblico giovane. Non mancherà la sfilata Supercar Night Parade che si terrà nella giornata inaugurale e vedrà partecipare i massimi vertici delle case automobilistiche presenti alla rassegna. \nLa sindaca di Torino Chiara Appendino ha dichiarato: “Torino torna ad affermarsi capitale dell’auto”. Andrea Levy\, Presidente di Parco Valentino\, ha affermato: “Torino si prepara a ospitare un grande evento\, grazie all’appoggio e alla collaborazione del Comune di Torino siamo riusciti a preparare un evento dinamico diffuso in tutta la città”.\nTra gli assi nella manica del Salone di Torino Parco Valentino\, il biglietto elettronico gratuito\, scaricabile dal sito ufficiale. Permetterà di accedere anche agli eventi come la Mostra dei Prototipi. Appuntamento dal 6 al 10 giugno\, quindi\, con la certezza che ancora una volta sarà una festa fantastica. \nMotorage.it – La redazione \n 
URL:https://www.motorage.it/evento/parco-valentino-salone-auto-torino-2018-piu-di-1-000-supercar/
LOCATION:Torino\, Parco del Valentino\, Torino\, 10135\, Italia
CATEGORIES:Italia,Piemonte
ATTACH;FMTTYPE=image/jpeg:https://www.motorage.it/wp-content/uploads/2018/05/ferrari-salone-auto-torino-parco-valentino-01.jpg
ORGANIZER;CN="Salone Auto Torino":MAILTO:info@parcovalentino.com
END:VEVENT
END:VCALENDAR