BEGIN:VCALENDAR
VERSION:2.0
PRODID:-//MotorAge New Generation - ECPv6.15.20//NONSGML v1.0//EN
CALSCALE:GREGORIAN
METHOD:PUBLISH
X-ORIGINAL-URL:https://www.motorage.it
X-WR-CALDESC:Eventi per MotorAge New Generation
REFRESH-INTERVAL;VALUE=DURATION:PT1H
X-Robots-Tag:noindex
X-PUBLISHED-TTL:PT1H
BEGIN:VTIMEZONE
TZID:Europe/Rome
BEGIN:DAYLIGHT
TZOFFSETFROM:+0100
TZOFFSETTO:+0200
TZNAME:CEST
DTSTART:20220327T010000
END:DAYLIGHT
BEGIN:STANDARD
TZOFFSETFROM:+0200
TZOFFSETTO:+0100
TZNAME:CET
DTSTART:20221030T010000
END:STANDARD
BEGIN:DAYLIGHT
TZOFFSETFROM:+0100
TZOFFSETTO:+0200
TZNAME:CEST
DTSTART:20230326T010000
END:DAYLIGHT
BEGIN:STANDARD
TZOFFSETFROM:+0200
TZOFFSETTO:+0100
TZNAME:CET
DTSTART:20231029T010000
END:STANDARD
BEGIN:DAYLIGHT
TZOFFSETFROM:+0100
TZOFFSETTO:+0200
TZNAME:CEST
DTSTART:20240331T010000
END:DAYLIGHT
BEGIN:STANDARD
TZOFFSETFROM:+0200
TZOFFSETTO:+0100
TZNAME:CET
DTSTART:20241027T010000
END:STANDARD
END:VTIMEZONE
BEGIN:VEVENT
DTSTART;TZID=Europe/Rome:20230708T090000
DTEND;TZID=Europe/Rome:20230709T210000
DTSTAMP:20260425T224314
CREATED:20230626T183709Z
LAST-MODIFIED:20230626T183709Z
UID:89409-1688806800-1688936400@www.motorage.it
SUMMARY:20° Cruisin' Rodeo: il raduno di auto made in USA
DESCRIPTION:Il weekend dell’8-9 luglio il Cruisin’ Rodeo animerà la città di Como con il più grande raduno di auto americane. \nUn evento annuale che affascina gli appassionati di auto e della cultura americana. Nel 2023\, il Cruisin’ Rodeo festeggia il suo 20° anniversario\, attirando migliaia di partecipanti e spettatori da tutto il mondo. Questo evento\, unico nel suo genere\, offre un’esperienza mozzafiato e coinvolgente per gli amanti delle auto e delle tradizioni americane.\nUna vasta area all’aperto ospita la manifestazione\, con spazio sufficiente per ospitare centinaia di veicoli d’epoca. Gli appassionati delle quattro ruote a stelle e strisce accorrono da ogni angolo del paese per mostrare le loro meraviglie. Le strade si animano di colori sgargianti\, cromature luccicanti e un’ampia varietà di modelli classici: un vero spettacolo per gli occhi. \nEsposizioni e concorsi\nIl Cruisin’ Rodeo offre anche una serie di esposizioni e concorsi che mettono in risalto le auto americane più eccezionali. I partecipanti possono girovagare tra le diverse aree\, ammirando la bellezza delle macchine esposte e scoprendo storie affascinanti su ciascuna di esse. Dalle muscle car americane a pick-up\, maxi-berline\, pony car\, classiche pre e post-war\, ma anche van customizzati\, Jeep\, fuoristrada di ogni tipo e vistose hot rod\, a cui si aggiungeranno iconiche auto apparse nei più celebri film e in popolari serie televisive.\nI concorsi premieranno poi le auto migliori in varie categorie\, come la migliore restaurazione\, il miglior design e la migliore presentazione complessiva. \nCruisin’ Rodeo: musica e molto altro\nL’evento non si limita solo alle auto d’epoca. Cruisin’ Rodeo offre un’ampia gamma di attività per tutta la famiglia. L’evento sarà animato da spettacoli dal vivo con band che suonano musica rockabilly e country\, dando vita all’atmosfera gioiosa e coinvolgente dell’America degli anni ’50 e ’60. Nella giornata di domenica\, le fotografatissime pin up rendono la manifestazione ancor più “yankee”. I bambini possono divertirsi nei parchi giochi dedicati\, con giostre e attrazioni adatte a tutte le età. \nQui si va oltre la celebrazione delle auto made in USA. La manifestazione rappresenta anche un momento per riflettere sull’influenza della cultura automobilistica americana sulla società. Le auto sono testimoniacane\,nze di un’epoca passata\, rappresentano lo spirito di avventura e la passione per la velocità che hanno caratterizzato l’America del dopoguerra. Il Cruisin’ Rodeo celebra questa storia e incoraggia il dialogo tra le diverse generazioni\, creando un ponte tra il passato e il presente. \nInformazioni utili\n8-9 luglio\nVia Pasquale Paoli 114\, Como\nIngresso Libero
URL:https://www.motorage.it/evento/20-cruisin-rodeo-il-raduno-di-auto-made-in-usa/
LOCATION:como\, Via Pasquale Paoli 114\, Como\, 22100\, Italia
CATEGORIES:como,Italia
ATTACH;FMTTYPE=image/jpeg:https://www.motorage.it/wp-content/uploads/2023/06/cruisin-rodeo-como-6-.jpg
END:VEVENT
END:VCALENDAR