BEGIN:VCALENDAR
VERSION:2.0
PRODID:-//MotorAge New Generation - ECPv6.15.20//NONSGML v1.0//EN
CALSCALE:GREGORIAN
METHOD:PUBLISH
X-ORIGINAL-URL:https://www.motorage.it
X-WR-CALDESC:Eventi per MotorAge New Generation
REFRESH-INTERVAL;VALUE=DURATION:PT1H
X-Robots-Tag:noindex
X-PUBLISHED-TTL:PT1H
BEGIN:VTIMEZONE
TZID:Europe/Rome
BEGIN:DAYLIGHT
TZOFFSETFROM:+0100
TZOFFSETTO:+0200
TZNAME:CEST
DTSTART:20200329T010000
END:DAYLIGHT
BEGIN:STANDARD
TZOFFSETFROM:+0200
TZOFFSETTO:+0100
TZNAME:CET
DTSTART:20201025T010000
END:STANDARD
BEGIN:DAYLIGHT
TZOFFSETFROM:+0100
TZOFFSETTO:+0200
TZNAME:CEST
DTSTART:20210328T010000
END:DAYLIGHT
BEGIN:STANDARD
TZOFFSETFROM:+0200
TZOFFSETTO:+0100
TZNAME:CET
DTSTART:20211031T010000
END:STANDARD
BEGIN:DAYLIGHT
TZOFFSETFROM:+0100
TZOFFSETTO:+0200
TZNAME:CEST
DTSTART:20220327T010000
END:DAYLIGHT
BEGIN:STANDARD
TZOFFSETFROM:+0200
TZOFFSETTO:+0100
TZNAME:CET
DTSTART:20221030T010000
END:STANDARD
END:VTIMEZONE
BEGIN:VEVENT
DTSTART;TZID=Europe/Rome:20210907T090000
DTEND;TZID=Europe/Rome:20210912T180000
DTSTAMP:20260421T210046
CREATED:20210831T150120Z
LAST-MODIFIED:20210831T150120Z
UID:87619-1631005200-1631469600@www.motorage.it
SUMMARY:Salone di Monaco: la IAA Mobility dal 7 al 12 settembre
DESCRIPTION:La rassegna\, denominata IAA Mobility\, sostituisce il  tradizionale Salone dell’automobile di Francoforte. Il Salone di Monaco avrà luogo nei locali della Messe München e in alcune piazze del centro cittadino. \nMobilità a tutto campo\nNon solo auto l’IAA Mobility che si terrà fra poco a Monaco di Baviera\, ma anche biciclette\, monopattini e quant’altro per una mobilità totale. La decisione di spostare la location da Francoforte a Monaco è stata presa dall’associazione dei costruttori automobilistici tedeschi VDA (in lizza vi erano anche Amburgo e Berlino). \nLe automobili rimangono sempre le protagoniste. infatti\, il Saone di Monaco farà da palcoscenico a novità come ad esempio l’anteprima mondiale della Dacia Lodgy e la Jogger\, nuovo modello che sarà disponibile in due configurazioni\, a cinque e a sette posti. Nel complesso si registra una grande presenza dei brand cinesi con marchi come Leapmotor\, Sio\, Saic\, Xpeng e Wey. \nLe novità europee\nMa a fare gli onori di casa sarà la nuova generazione della super ammiraglia BMW Serie 7\, esposta come concept. E conoscendo la filosofia dei prototipi della Casa di Monaco\, c’è a prevedere che il modello definitivo sarà molto simile a quello esposto allo IAA Mobility. \nAnche la Seat Cupra sarà presente al Salone di Monaco con uno stand dedicato\, dove farà bella mostra di sé la Born\, una berlina elettrica dal look aggressivo. Seat presenterà anche una concept inedita\, la Urban Rebel\, una compatta elettrica da città destinata ad arrivare sul mercato nel 2025. \nAltri onori di casa e altro concept importantissimo sarà il Mercedes EQG\, la prefigurazione della Classe G elettrica per la quale è previsto il vernissage nel 2023. Queste e molte altre novità del Salone di Monaco\, un modo di intendere la mobilità a 360 gradi. \nIl nuovo format\nIl salone di Monaco si svilupperà su tre tematiche particolari\, tre piattaforme di svolgimento che porteranno parte del pubblico sulle strade cittadine: \n•Summit\, la fiera tradizionale che si svolgerà nel complesso fieristico della metropoli bavarese. \n•Blue Lane\, ovvero una “corsia blu” che collegherà il quartiere della Fiera di Monaco con le aree centrali della città. Questa piattaforma ospiterà anche una pista dedicata alle esperienze ed ai test drive. Per i visitatori è previsto anche un percorso multimodale formato da autovettura\, bicicletta e mezzi di trasporto locale. \n•Open Space\, è il nome delle aree dedicate al Salone di Monaco in cui alcuni dei poli nevralgici del centro città. Si tratta di aree all’aperto in cui attivare percorsi di dialogo diretto con le persone sui temi dell’innovazione\, delle idee e della mobilità sostenibile per il futuro. \nInformazioni utili\nIl costo dei ticket parte da 20 euro per l’ingresso giornaliero singolo nei giorni feriali\, 25 euro il giornaliero nel weekend\, 45 euro il pacchetto weekend e 59 euro il pacchetto weekend per tutto il nucleo famigliare. \nI biglietti sono vendita anche sul sito web ufficiale della manifestazione \nIl Salone di Monaco è aperto dalle ore 9 alle 18\, mentre il fuorisalone accessibile al pubblico dalle 10 alle 20.
URL:https://www.motorage.it/evento/salone-di-monaco-la-iaa-mobility-dal-7-al-12-settembre/
LOCATION:Principato di Moco\, salone di monaco\, monaco\, 98000\, Monaco
CATEGORIES:Estero,Monaco
ATTACH;FMTTYPE=image/jpeg:https://www.motorage.it/wp-content/uploads/2021/08/IAA-2021-salone_di_monaco.jpg
ORGANIZER;CN="IAA":MAILTO:info@iaa.de
END:VEVENT
END:VCALENDAR